BEGIN:VCALENDAR
VERSION:2.0
PRODID:-//ChamberMaster//Event Calendar 2.0//EN
METHOD:PUBLISH
X-PUBLISHED-TTL:P1H
REFRESH-INTERVAL:P1H
CALSCALE:GREGORIAN
BEGIN:VTIMEZONE
TZID:America/New_York
BEGIN:DAYLIGHT
RRULE:FREQ=YEARLY;BYMONTH=3;BYDAY=2SU
DTSTART:20070101T000000
TZOFFSETFROM:-0500
TZOFFSETTO:-0400
TZNAME:Eastern Daylight Time
END:DAYLIGHT
BEGIN:STANDARD
RRULE:FREQ=YEARLY;BYMONTH=11;BYDAY=1SU
DTSTART:20070101T000000
TZOFFSETFROM:-0400
TZOFFSETTO:-0500
TZNAME:Eastern Standard Time
END:STANDARD
END:VTIMEZONE
BEGIN:VEVENT
DTSTART;TZID=America/New_York:20260509T100000
DTEND;TZID=America/New_York:20260509T120000
X-MICROSOFT-CDO-ALLDAYEVENT:FALSE
SUMMARY:Mothers Day Fitness and Self-Defense Class
DESCRIPTION:Celebrate Mother’s Day with a fun and empowering experience designed just for women. This class combines light fitness training with practical self-defense techniques in a supportive and encouraging environment\, and it is all free!\n\nParticipants will enjoy a beginner-friendly workout to build strength\, confidence\, and energy\, followed by hands-on instruction in simple\, effective self-defense skills for real-life situations. No prior experience is needed—just come ready to move\, learn\, and have a great time.
X-ALT-DESC;FMTTYPE=text/html:Celebrate Mother’s Day with a fun and empowering experience designed just for women. This class combines light fitness training with practical self-defense techniques in a supportive and encouraging environment\, and it is all free!\n\nParticipants will enjoy a beginner-friendly workout to build strength\, confidence\, and energy\, followed by hands-on instruction in simple\, effective self-defense skills for real-life situations. No prior experience is needed—just come ready to move\, learn\, and have a great time.
LOCATION:3716 Battleground Ave\, Suite A Greensboro NC 27265
UID:e.2470.1440961
SEQUENCE:3
DTSTAMP:20260421T164216Z
URL:https://chamber.greensboro.org/events/Details/mothers-day-fitness-and-self-defense-class-1706166?sourceTypeId=Hub
END:VEVENT
END:VCALENDAR
