BEGIN:VCALENDAR
VERSION:2.0
PRODID:-//ChamberMaster//Event Calendar 2.0//EN
METHOD:PUBLISH
X-PUBLISHED-TTL:P1H
REFRESH-INTERVAL:P1H
CALSCALE:GREGORIAN
BEGIN:VTIMEZONE
TZID:America/New_York
BEGIN:DAYLIGHT
RRULE:FREQ=YEARLY;BYMONTH=3;BYDAY=2SU
DTSTART:20070101T000000
TZOFFSETFROM:-0500
TZOFFSETTO:-0400
TZNAME:Eastern Daylight Time
END:DAYLIGHT
BEGIN:STANDARD
RRULE:FREQ=YEARLY;BYMONTH=11;BYDAY=1SU
DTSTART:20070101T000000
TZOFFSETFROM:-0400
TZOFFSETTO:-0500
TZNAME:Eastern Standard Time
END:STANDARD
END:VTIMEZONE
BEGIN:VEVENT
DTSTART;TZID=America/New_York:20260502T173000
DTEND;TZID=America/New_York:20260502T223000
X-MICROSOFT-CDO-ALLDAYEVENT:FALSE
SUMMARY:Hats\, Horses\, & Hope
DESCRIPTION:Join us for a Fundraising Gala for Room At The Inn! This evening includes dinner\, mint juleps\, cash bar\, and a Live Action. \nLive Kentucky Derby Race Starts at 6:50pm
X-ALT-DESC;FMTTYPE=text/html:Join us for a Fundraising Gala for Room At The Inn! This evening includes dinner\, mint juleps\, cash bar\, and a Live Action. \nLive Kentucky Derby Race Starts at 6:50pm
LOCATION:4151 Thomasville Road Winston Salem NC 27107
UID:e.2470.1446198
SEQUENCE:3
DTSTAMP:20260421T163720Z
URL:https://chamber.greensboro.org/events/Details/hats-horses-hope-1712902?sourceTypeId=Hub
END:VEVENT
END:VCALENDAR
