BEGIN:VCALENDAR
VERSION:2.0
PRODID:-//ChamberMaster//Event Calendar 2.0//EN
METHOD:PUBLISH
X-PUBLISHED-TTL:P1H
REFRESH-INTERVAL:P1H
CALSCALE:GREGORIAN
BEGIN:VTIMEZONE
TZID:America/New_York
BEGIN:DAYLIGHT
RRULE:FREQ=YEARLY;BYMONTH=3;BYDAY=2SU
DTSTART:20070101T000000
TZOFFSETFROM:-0500
TZOFFSETTO:-0400
TZNAME:Eastern Daylight Time
END:DAYLIGHT
BEGIN:STANDARD
RRULE:FREQ=YEARLY;BYMONTH=11;BYDAY=1SU
DTSTART:20070101T000000
TZOFFSETFROM:-0400
TZOFFSETTO:-0500
TZNAME:Eastern Standard Time
END:STANDARD
END:VTIMEZONE
BEGIN:VEVENT
DTSTART;TZID=America/New_York:20260509T100000
DTEND;TZID=America/New_York:20260509T110000
X-MICROSOFT-CDO-ALLDAYEVENT:FALSE
SUMMARY:Which high school curriculum is best for your child?
DESCRIPTION:Parents of 7-9th graders:The FREE session will be interactive and engaging - join us!SATURDAY\, MAY 910-11AM Arboro Empowered (5415 Old Lake Jeanette Road)\nWhich high school curriculum is best for your child?Advanced Placement (AP) Classes?International Baccalaureate (IB) Curriculum?Dual Enrollment (DE) Classes?Honors Classes?\nJoin Tammy Alt from Generation One College Counseling at Arboro Empowered for a discussion about what might be best for your child.\nReserve your spot here: https://www.arboroempowered.com/event-details/which-high-school-curriculum-is-best-for-your-child
X-ALT-DESC;FMTTYPE=text/html:<!DOCTYPE html><html><head><title></title></head><body aria-disabled="false"><p><strong fr-original-style="" style="font-weight: 700\;">Parents of 7-9th graders:</strong></p><p>The FREE session will be interactive and engaging - join us!</p><p>SATURDAY\, MAY 9</p><p>10-11AM&nbsp\;</p><p>Arboro Empowered (5415 Old Lake Jeanette Road)</p><p><br></p><p><strong fr-original-style="" style="font-weight: 700\;">Which high school curriculum is best for your child?</strong></p><p><em>Advanced Placement (AP) Classes?</em></p><p><em>International Baccalaureate (IB) Curriculum?</em></p><p><em>Dual Enrollment (DE) Classes?</em></p><p><em>Honors Classes?</em></p><p><br></p><p>Join Tammy Alt from Generation One College Counseling at Arboro Empowered for a discussion about what might be best for your child.</p><p><br></p><p>Reserve your spot here:&nbsp\;<a fr-original-style="" href="https://www.arboroempowered.com/event-details/which-high-school-curriculum-is-best-for-your-child" style="user-select: auto\;">https://www.arboroempowered.com/event-details/which-high-school-curriculum-is-best-for-your-child</a></p></body></html>
LOCATION:
UID:e.2470.1446879
SEQUENCE:3
DTSTAMP:20260421T164039Z
URL:https://chamber.greensboro.org/events/Details/which-high-school-curriculum-is-best-for-your-child-1713689?sourceTypeId=Hub
END:VEVENT
END:VCALENDAR
