BEGIN:VCALENDAR
VERSION:2.0
PRODID:-//ChamberMaster//Event Calendar 2.0//EN
METHOD:PUBLISH
X-PUBLISHED-TTL:P1H
REFRESH-INTERVAL:P1H
CALSCALE:GREGORIAN
BEGIN:VTIMEZONE
TZID:America/New_York
BEGIN:DAYLIGHT
RRULE:FREQ=YEARLY;BYMONTH=3;BYDAY=2SU
DTSTART:20070101T000000
TZOFFSETFROM:-0500
TZOFFSETTO:-0400
TZNAME:Eastern Daylight Time
END:DAYLIGHT
BEGIN:STANDARD
RRULE:FREQ=YEARLY;BYMONTH=11;BYDAY=1SU
DTSTART:20070101T000000
TZOFFSETFROM:-0400
TZOFFSETTO:-0500
TZNAME:Eastern Standard Time
END:STANDARD
END:VTIMEZONE
BEGIN:VEVENT
DTSTART;TZID=America/New_York:20260423T143000
DTEND;TZID=America/New_York:20260423T153000
X-MICROSOFT-CDO-ALLDAYEVENT:FALSE
SUMMARY:Second2None Cancer Foundation Ribbon Cutting
DESCRIPTION:Come welcome a new business to the community!
X-ALT-DESC;FMTTYPE=text/html:Come welcome a new business to the community!
LOCATION:111 W. February One Place Greensboro NC 27401
UID:e.2470.1436728
SEQUENCE:3
DTSTAMP:20260421T163823Z
URL:https://chamber.greensboro.org/events/Details/second2none-cancer-foundation-ribbon-cutting-1700746?sourceTypeId=Hub
END:VEVENT
END:VCALENDAR
