BEGIN:VCALENDAR
VERSION:2.0
PRODID:-//ChamberMaster//Event Calendar 2.0//EN
METHOD:PUBLISH
X-PUBLISHED-TTL:P1H
REFRESH-INTERVAL:P1H
CALSCALE:GREGORIAN
BEGIN:VTIMEZONE
TZID:America/New_York
BEGIN:DAYLIGHT
RRULE:FREQ=YEARLY;BYMONTH=3;BYDAY=2SU
DTSTART:20070101T000000
TZOFFSETFROM:-0500
TZOFFSETTO:-0400
TZNAME:Eastern Daylight Time
END:DAYLIGHT
BEGIN:STANDARD
RRULE:FREQ=YEARLY;BYMONTH=11;BYDAY=1SU
DTSTART:20070101T000000
TZOFFSETFROM:-0400
TZOFFSETTO:-0500
TZNAME:Eastern Standard Time
END:STANDARD
END:VTIMEZONE
BEGIN:VEVENT
DTSTART;TZID=America/New_York:20260408T193000
DTEND;TZID=America/New_York:20260408T220000
X-MICROSOFT-CDO-ALLDAYEVENT:FALSE
SUMMARY:Greensboro SWARM NBA G League Finals
DESCRIPTION:The Greensboro Swarm are headed to the NBA G League Finals!🏀🏆 After defeating the Osceola Magic 134-121 in the Eastern Conference Finals\, the Greensboro Swarm will play a 3-game series vs the Stockton Kings in the NBA G League Finals! Game 1 of the Finals will take place on Wednesday\, April 8th at 7:30pm. To celebrate this historic season\, we are offering discounted tickets to our first ever Finals appearance! Show up loud\, proud\, and WEAR PURPLE! 💜 Tickets are limited and going quickly\, so be sure to secure yours while supplies last! Please observe the Coliseum's Bag Policy. Your Tickets will be emailed after purchase.Link to purchase: https://swarm.spinzo.com/greensboro-swarm-vs-stockton-kings-2026-04-08-YAXZP?group=playoff-nkpr
X-ALT-DESC;FMTTYPE=text/html:<!DOCTYPE html><html><head><title></title></head><body aria-disabled="false"><p>The Greensboro Swarm are headed to the NBA G League Finals!🏀🏆 After defeating the Osceola Magic 134-121 in the Eastern Conference Finals\, the Greensboro Swarm will play a 3-game series vs the Stockton Kings in the NBA G League Finals! Game 1 of the Finals will take place on Wednesday\, April 8th at 7:30pm. To celebrate this historic season\, we are offering discounted tickets to our first ever Finals appearance! Show up loud\, proud\, and WEAR PURPLE! 💜 Tickets are limited and going quickly\, so be sure to secure yours while supplies last! Please observe the Coliseum&#39\;s Bag Policy. Your Tickets will be emailed after purchase.</p><p>Link to purchase:&nbsp\;<a fr-original-style="" href="https://swarm.spinzo.com/greensboro-swarm-vs-stockton-kings-2026-04-08-YAXZP?group=playoff-nkpr" style="user-select: auto\;">https://swarm.spinzo.com/greensboro-swarm-vs-stockton-kings-2026-04-08-YAXZP?group=playoff-nkpr</a></p></body></html>
LOCATION:1921 W Gate City Greensboro NC 27403
UID:e.2470.1437486
SEQUENCE:3
DTSTAMP:20260421T164104Z
URL:https://chamber.greensboro.org/events/Details/greensboro-swarm-nba-g-league-finals-1701431?sourceTypeId=Hub
END:VEVENT
END:VCALENDAR
